BEGIN:VCALENDAR
VERSION:2.0
PRODID:-//Tukios.com/
BEGIN:VEVENT
UID:bdc1372a-5f42-47ea-92e7-4a2021c1e22b@www.demunn.com
DTSTAMP:20260419T232003Z
DTSTART:20260420T140000Z
DTEND:20260420T160000Z
SUMMARY:Visitation
DESCRIPTION:
URL:https://www.demunn.com/obituaries/rhoda-messemer
LOCATION: 36 Conklin Ave  Binghamton NY 13903
GEO:42.0918125;-75.9121214
END:VEVENT
END:VCALENDAR