BEGIN:VCALENDAR
VERSION:2.0
PRODID:-//Tukios.com/
BEGIN:VEVENT
UID:0f0e5b3b-e8d4-495a-a6aa-5b644bb2d601@www.demunn.com
DTSTAMP:20260419T232349Z
DTSTART:20260420T160000Z
DTEND:20260420T170000Z
SUMMARY:Funeral Service
DESCRIPTION:
URL:https://www.demunn.com/obituaries/rhoda-b-messemer
LOCATION:Ernest H. Parsons Funeral Home 36 Conklin Ave  Binghamton NY 
	13903
GEO:42.0918125;-75.9121214
END:VEVENT
END:VCALENDAR