BEGIN:VCALENDAR
VERSION:2.0
PRODID:-//Tukios.com/
BEGIN:VEVENT
UID:15e7b688-4cc4-4ceb-b4f4-fc2ba153e3b4@www.demunn.com
DTSTAMP:20260422T163105Z
DTSTART:20260425T180000Z
DTEND:20260425T190000Z
SUMMARY:Memorial Service
DESCRIPTION:
URL:https://www.demunn.com/obituaries/aleanna-belcher
LOCATION: 36 Conklin Ave  Binghamton NY 13903
GEO:42.0918125;-75.9121214
END:VEVENT
END:VCALENDAR