BEGIN:VCALENDAR
VERSION:2.0
PRODID:-//Tukios.com/
BEGIN:VEVENT
UID:ec8493e3-3432-40da-a4aa-3da04410a220@www.demunn.com
DTSTAMP:20260422T162413Z
DTSTART:20260425T160000Z
DTEND:20260425T180000Z
SUMMARY:Visitation
DESCRIPTION:
URL:https://www.demunn.com/obituaries/aleanna-belcher
LOCATION: 36 Conklin Ave  Binghamton NY 13903
GEO:42.0918125;-75.9121214
END:VEVENT
END:VCALENDAR